BEGIN:VCALENDAR
VERSION:2.0
PRODID:-//Show-Orchester Rheingau-Mitte e.V.//NONSGML kigkonsult.se iCalcreator 2.41.92//
CALSCALE:GREGORIAN
METHOD:PUBLISH
UID:61323534-3566-4562-a566-333862333363
X-WR-CALNAME:iCagenda
X-WR-CALDESC:Event Management Extension for Joomla!
X-WR-RELCALID:3E26604A-50F4-4449-8B3E-E4F4932D05B5
X-WR-TIMEZONE:Europe/Berlin
BEGIN:VTIMEZONE
TZID:Europe/Berlin
TZUNTIL:20281029T010000Z
BEGIN:STANDARD
TZNAME:CET
DTSTART:20251026T030000
TZOFFSETFROM:+0200
TZOFFSETTO:+0100
RDATE:20261025T030000
RDATE:20271031T030000
END:STANDARD
BEGIN:DAYLIGHT
TZNAME:CEST
DTSTART:20260329T020000
TZOFFSETFROM:+0100
TZOFFSETTO:+0200
RDATE:20270328T020000
RDATE:20280326T020000
END:DAYLIGHT
END:VTIMEZONE
BEGIN:VEVENT
UID:66306262-3265-4435-b837-323236363839
DTSTAMP:20260423T105713Z
CATEGORIES:Stammorchester
CLASS:PUBLIC
DESCRIPTION;ALTREP="CID:<FFFF__=0ABBE548DFE235B58f9e8a93d@coffeebean.com>":
 &nbsp\;\nEintritt ab 18 Jahren.\n&nbsp\;\nEinlass: 18.30 Uhr&nbsp\;Beginn:
  19.30 Uhr&nbsp\;Schluss: 00.30 Uhr
DTSTART:20261017T173000Z
DTEND:20261017T173000Z
GEO:+50.004856;+8.000073
LOCATION:Vereinshaus Kirchstr. 122\, Winkel
ORGANIZER:
SEQUENCE:1
SUMMARY:Oktoberfest 1
TRANSP:OPAQUE
URL:https://rheingau-mitte.de/index.php/events/show-orchester/oktoberfest/2
 026-10-17-19-30
END:VEVENT
END:VCALENDAR
