BEGIN:VCALENDAR
VERSION:2.0
PRODID:-//Show-Orchester Rheingau-Mitte e.V.//NONSGML kigkonsult.se iCalcreator 2.41.92//
CALSCALE:GREGORIAN
METHOD:PUBLISH
UID:61383634-3334-4134-a238-323637313566
X-WR-CALNAME:iCagenda
X-WR-CALDESC:Event Management Extension for Joomla!
X-WR-RELCALID:3E26604A-50F4-4449-8B3E-E4F4932D05B5
X-WR-TIMEZONE:Europe/Berlin
BEGIN:VTIMEZONE
TZID:Europe/Berlin
TZUNTIL:20280326T010000Z
BEGIN:STANDARD
TZNAME:CET
DTSTART:20251026T030000
TZOFFSETFROM:+0200
TZOFFSETTO:+0100
RDATE:20261025T030000
RDATE:20271031T030000
END:STANDARD
BEGIN:DAYLIGHT
TZNAME:CEST
DTSTART:20260329T020000
TZOFFSETFROM:+0100
TZOFFSETTO:+0200
RDATE:20270328T020000
END:DAYLIGHT
END:VTIMEZONE
BEGIN:VEVENT
UID:61373336-6164-4363-b637-393430666238
DTSTAMP:20260423T084250Z
CATEGORIES:Stammorchester
CLASS:PUBLIC
DESCRIPTION;ALTREP="CID:<FFFF__=0ABBE548DFE235B58f9e8a93d@coffeebean.com>":
 &nbsp\;\n&nbsp\;\n&nbsp\;
DTSTART:20260509T173000Z
DTEND:20260509T173000Z
GEO:+50.004856;+8.000073
LOCATION:Vereinshaus Rheingau-Mitte
ORGANIZER:
SEQUENCE:1
SUMMARY:Night of Music
TRANSP:OPAQUE
URL:https://rheingau-mitte.de/index.php/events/night-of-music/2026-05-09-19
 -30
END:VEVENT
END:VCALENDAR
