BEGIN:VCALENDAR
VERSION:2.0
PRODID:-//Show-Orchester Rheingau-Mitte e.V.//NONSGML kigkonsult.se iCalcreator 2.41.92//
CALSCALE:GREGORIAN
METHOD:PUBLISH
UID:38393636-3830-4830-b236-313564343638
X-WR-CALNAME:iCagenda
X-WR-CALDESC:Event Management Extension for Joomla!
X-WR-RELCALID:3E26604A-50F4-4449-8B3E-E4F4932D05B5
X-WR-TIMEZONE:Europe/Berlin
BEGIN:VTIMEZONE
TZID:Europe/Berlin
TZUNTIL:20270328T010000Z
BEGIN:STANDARD
TZNAME:CET
DTSTART:20241027T030000
TZOFFSETFROM:+0200
TZOFFSETTO:+0100
RDATE:20251026T030000
RDATE:20261025T030000
END:STANDARD
BEGIN:DAYLIGHT
TZNAME:CEST
DTSTART:20250330T020000
TZOFFSETFROM:+0100
TZOFFSETTO:+0200
RDATE:20260329T020000
END:DAYLIGHT
END:VTIMEZONE
BEGIN:VEVENT
UID:30396132-3936-4565-b238-346635303962
DTSTAMP:20260422T085747Z
CATEGORIES:Stammorchester
CLASS:PUBLIC
DESCRIPTION;ALTREP="CID:<FFFF__=0ABBE548DFE235B58f9e8a93d@coffeebean.com>":
 &nbsp\;\n&nbsp\;\n&nbsp\;
DTSTART:20250517T180000Z
DTEND:20250517T180000Z
GEO:+50.004856;+8.000073
LOCATION:Vereinshaus Rheingau-Mitte
ORGANIZER:
SEQUENCE:1
SUMMARY:Night of Music
TRANSP:OPAQUE
URL:https://rheingau-mitte.de/index.php/events/night-of-music/2025-05-17-20
 -00
END:VEVENT
END:VCALENDAR
