BEGIN:VCALENDAR
VERSION:2.0
PRODID:-//Show-Orchester Rheingau-Mitte e.V.//NONSGML kigkonsult.se iCalcreator 2.41.92//
CALSCALE:GREGORIAN
METHOD:PUBLISH
UID:35373430-6235-4932-a234-373334326232
X-WR-CALNAME:iCagenda
X-WR-CALDESC:Event Management Extension for Joomla!
X-WR-RELCALID:3E26604A-50F4-4449-8B3E-E4F4932D05B5
X-WR-TIMEZONE:Europe/Berlin
BEGIN:VTIMEZONE
TZID:Europe/Berlin
TZUNTIL:20261025T010000Z
BEGIN:STANDARD
TZNAME:CET
DTSTART:20241027T030000
TZOFFSETFROM:+0200
TZOFFSETTO:+0100
RDATE:20251026T030000
END:STANDARD
BEGIN:DAYLIGHT
TZNAME:CEST
DTSTART:20240331T020000
TZOFFSETFROM:+0100
TZOFFSETTO:+0200
RDATE:20250330T020000
RDATE:20260329T020000
END:DAYLIGHT
END:VTIMEZONE
BEGIN:VEVENT
UID:66656430-6164-4966-b936-373530643432
DTSTAMP:20260424T091616Z
CATEGORIES:Jugendorchester
CLASS:PUBLIC
DESCRIPTION;ALTREP="CID:<FFFF__=0ABBE548DFE235B58f9e8a93d@coffeebean.com>":
 Für Verpflegung ist gesorgt. Bitte eigene Tasse mitbringen!
DTSTART:20241215T160000Z
DTEND:20241215T160000Z
GEO:+50.022076;+8.092114
LOCATION:Franseckystr. 8\, 65346 Eltville-Erbach
ORGANIZER:
SEQUENCE:1
SUMMARY:Lebendiger Adventskalender
TRANSP:OPAQUE
URL:https://rheingau-mitte.de/index.php/events/lebendiger-adventskalender-2
 /2024-12-15-17-00
END:VEVENT
END:VCALENDAR
